Workbook
Name _0: 'Formulario DE-01'!$DX$270
Name _1: 'Formulario DE-01'!$DM$270:$DM$276
Name _10: 'Formulario DE-01'!$DU$270
Name _2: 'Formulario DE-01'!$DN$270:$DN$281
Name _3: 'Formulario DE-01'!$DO$270:$DO$277
Name _4: 'Formulario DE-01'!$DP$270:$DP$282
Name _5: 'Formulario DE-01'!$DQ$270:$DQ$276
Name _6: 'Formulario DE-01'!$DR$270:$DR$277
Name _7: 'Formulario DE-01'!$DS$270:$DS$274
Name _8: 'Formulario DE-01'!$DT$270:$DT$273
Name _80: 'Formulario DE-01'!$DV$270:$DV$286
Name _90: 'Formulario DE-01'!$DW$270:$DW$276
Name Condición: 'Formulario DE-01'!$DL$270:$DL$281
Name ET: 'Formulario DE-01'!$DM$261:$DM$263
Name Md: 'Formulario DE-01'!$DQ$261:$DQ$263
Name Nivel: 'Formulario DE-01'!$DL$261:$DL$267
Name Pe: 'Formulario DE-01'!$DN$261:$DN$265
Name Pm: 'Formulario DE-01'!$DP$261:$DP$263
Name Pr: 'Formulario DE-01'!$DO$261:$DO$266
Name TVA: 'Formulario DE-01'!$DS$261
Name Vo: 'Formulario DE-01'!$DR$261:$DR$266

Sheet Dato de Grupo (Imprimir)
B1: ='Formulario DE-01'!F1 -> INSTITUTO PANAMEÑO DE HABILITACIÓN ESPECIAL
B2: SERVICIOS DE EDUCACIÓN ESPECIAL Y RECURSOS PARA EL APRENDIZAJE
C4: Año lectivo: | D4: ='Formulario DE-01'!AQ1 -> 0 | F4: Educador(a): | G4: ='Formulario DE-01'!AQ2 -> 0 | I4: Cédula No.: | J4: ='Formulario DE-01'!AQ3 -> 0 | L4: Centro Educativo: | M4: ='Formulario DE-01'!AQ6 -> 0
A6: DATOS GENERALES DEL ESTUDIANTE | L6: INFORMACIÓN ACADÉMICA
A7: No. | B7: Apellido y Nombre | C7: No. de Cédula | D7: Sexo | E7: Fecha de Nacimiento | F7: Edad en Años | G7: Condición de Discapacidad | H7: Lugar de procedencia | J7: Acudiente | K7: Parentesco | L7: Modalidad o Tipo de Servicio | M7: Nivel educativo | N7: Grado que cursa | O7: Turno | P7: Tipo de atención / Movimiento
H8: Dirección Completa (Barriada / calle / casa / Teléfono) | I8: País de Procedencia
A9: =IF(B9="","",1) | B9: =Hoja1!B2 | C9: =Hoja1!A2 | D9: =Hoja1!C2 | E9: =Hoja1!E2 | F9: =Hoja1!D2 | G9: =CONCATENATE(Hoja1!P2,", ",'Formulario DE-01'!N15) -> , | H9: =Hoja1!G2 | I9: =Hoja1!S2 | J9: =Hoja1!J2 | K9: =Hoja1!L2 | L9: =Hoja2!Q2 | M9: =Hoja2!G2 | N9: =IF('Formulario DE-01'!W15="","",'Formulario DE-01'!W15) | O9: =Hoja2!F2 | P9: =CONCATENATE(Hoja2!Z2,", ",Hoja2!R2) -> ,
A10: =IF(B10="","",A9+1) | B10: =Hoja1!B3 | C10: =Hoja1!A3 | D10: =Hoja1!C3 | E10: =Hoja1!E3 | F10: =Hoja1!D3 | G10: =CONCATENATE(Hoja1!P3,", ",'Formulario DE-01'!N16) -> , | H10: =Hoja1!G3 | I10: =Hoja1!S3 | J10: =Hoja1!J3 | K10: =Hoja1!L3 | L10: =Hoja2!Q3 | M10: =Hoja2!G3 | N10: =IF('Formulario DE-01'!W16="","",'Formulario DE-01'!W16) | O10: =Hoja2!F3 | P10: =CONCATENATE(Hoja2!Z3,", ",Hoja2!R3) -> ,
A11: =IF(B11="","",A10+1) | B11: =Hoja1!B4 | C11: =Hoja1!A4 | D11: =Hoja1!C4 | E11: =Hoja1!E4 | F11: =Hoja1!D4 | G11: =CONCATENATE(Hoja1!P4,", ",'Formulario DE-01'!N17) -> , | H11: =Hoja1!G4 | I11: =Hoja1!S4 | J11: =Hoja1!J4 | K11: =Hoja1!L4 | L11: =Hoja2!Q4 | M11: =Hoja2!G4 | N11: =IF('Formulario DE-01'!W17="","",'Formulario DE-01'!W17) | O11: =Hoja2!F4 | P11: =CONCATENATE(Hoja2!Z4,", ",Hoja2!R4) -> ,
A12: =IF(B12="","",A11+1) | B12: =Hoja1!B5 | C12: =Hoja1!A5 | D12: =Hoja1!C5 | E12: =Hoja1!E5 | F12: =Hoja1!D5 | G12: =CONCATENATE(Hoja1!P5,", ",'Formulario DE-01'!N18) -> , | H12: =Hoja1!G5 | I12: =Hoja1!S5 | J12: =Hoja1!J5 | K12: =Hoja1!L5 | L12: =Hoja2!Q5 | M12: =Hoja2!G5 | N12: =IF('Formulario DE-01'!W18="","",'Formulario DE-01'!W18) | O12: =Hoja2!F5 | P12: =CONCATENATE(Hoja2!Z5,", ",Hoja2!R5) -> ,
A13: =IF(B13="","",A12+1) | B13: =Hoja1!B6 | C13: =Hoja1!A6 | D13: =Hoja1!C6 | E13: =Hoja1!E6 | F13: =Hoja1!D6 | G13: =CONCATENATE(Hoja1!P6,", ",'Formulario DE-01'!N19) -> , | H13: =Hoja1!G6 | I13: =Hoja1!S6 | J13: =Hoja1!J6 | K13: =Hoja1!L6 | L13: =Hoja2!Q6 | M13: =Hoja2!G6 | N13: =IF('Formulario DE-01'!W19="","",'Formulario DE-01'!W19) | O13: =Hoja2!F6 | P13: =CONCATENATE(Hoja2!Z6,", ",Hoja2!R6) -> ,
A14: =IF(B14="","",A13+1) | B14: =Hoja1!B7 | C14: =Hoja1!A7 | D14: =Hoja1!C7 | E14: =Hoja1!E7 | F14: =Hoja1!D7 | G14: =CONCATENATE(Hoja1!P7,", ",'Formulario DE-01'!N20) -> , | H14: =Hoja1!G7 | I14: =Hoja1!S7 | J14: =Hoja1!J7 | K14: =Hoja1!L7 | L14: =Hoja2!Q7 | M14: =Hoja2!G7 | N14: =IF('Formulario DE-01'!W20="","",'Formulario DE-01'!W20) | O14: =Hoja2!F7 | P14: =CONCATENATE(Hoja2!Z7,", ",Hoja2!R7) -> ,
A15: =IF(B15="","",A14+1) | B15: =Hoja1!B8 | C15: =Hoja1!A8 | D15: =Hoja1!C8 | E15: =Hoja1!E8 | F15: =Hoja1!D8 | G15: =CONCATENATE(Hoja1!P8,", ",'Formulario DE-01'!N21) -> , | H15: =Hoja1!G8 | I15: =Hoja1!S8 | J15: =Hoja1!J8 | K15: =Hoja1!L8 | L15: =Hoja2!Q8 | M15: =Hoja2!G8 | N15: =IF('Formulario DE-01'!W21="","",'Formulario DE-01'!W21) | O15: =Hoja2!F8 | P15: =CONCATENATE(Hoja2!Z8,", ",Hoja2!R8) -> ,
A16: =IF(B16="","",A15+1) | B16: =Hoja1!B9 | C16: =Hoja1!A9 | D16: =Hoja1!C9 | E16: =Hoja1!E9 | F16: =Hoja1!D9 | G16: =CONCATENATE(Hoja1!P9,", ",'Formulario DE-01'!N22) -> , | H16: =Hoja1!G9 | I16: =Hoja1!S9 | J16: =Hoja1!J9 | K16: =Hoja1!L9 | L16: =Hoja2!Q9 | M16: =Hoja2!G9 | N16: =IF('Formulario DE-01'!W22="","",'Formulario DE-01'!W22) | O16: =Hoja2!F9 | P16: =CONCATENATE(Hoja2!Z9,", ",Hoja2!R9) -> ,
A17: =IF(B17="","",A16+1) | B17: =Hoja1!B10 | C17: =Hoja1!A10 | D17: =Hoja1!C10 | E17: =Hoja1!E10 | F17: =Hoja1!D10 | G17: =CONCATENATE(Hoja1!P10,", ",'Formulario DE-01'!N23) -> , | H17: =Hoja1!G10 | I17: =Hoja1!S10 | J17: =Hoja1!J10 | K17: =Hoja1!L10 | L17: =Hoja2!Q10 | M17: =Hoja2!G10 | N17: =IF('Formulario DE-01'!W23="","",'Formulario DE-01'!W23) | O17: =Hoja2!F10 | P17: =CONCATENATE(Hoja2!Z10,", ",Hoja2!R10) -> ,
A18: =IF(B18="","",A17+1) | B18: =Hoja1!B11 | C18: =Hoja1!A11 | D18: =Hoja1!C11 | E18: =Hoja1!E11 | F18: =Hoja1!D11 | G18: =CONCATENATE(Hoja1!P11,", ",'Formulario DE-01'!N24) -> , | H18: =Hoja1!G11 | I18: =Hoja1!S11 | J18: =Hoja1!J11 | K18: =Hoja1!L11 | L18: =Hoja2!Q11 | M18: =Hoja2!G11 | N18: =IF('Formulario DE-01'!W24="","",'Formulario DE-01'!W24) | O18: =Hoja2!F11 | P18: =CONCATENATE(Hoja2!Z11,", ",Hoja2!R11) -> ,
A19: =IF(B19="","",A18+1) | B19: =Hoja1!B12 | C19: =Hoja1!A12 | D19: =Hoja1!C12 | E19: =Hoja1!E12 | F19: =Hoja1!D12 | G19: =CONCATENATE(Hoja1!P12,", ",'Formulario DE-01'!N25) -> , | H19: =Hoja1!G12 | I19: =Hoja1!S12 | J19: =Hoja1!J12 | K19: =Hoja1!L12 | L19: =Hoja2!Q12 | M19: =Hoja2!G12 | N19: =IF('Formulario DE-01'!W25="","",'Formulario DE-01'!W25) | O19: =Hoja2!F12 | P19: =CONCATENATE(Hoja2!Z12,", ",Hoja2!R12) -> ,
A20: =IF(B20="","",A19+1) | B20: =Hoja1!B13 | C20: =Hoja1!A13 | D20: =Hoja1!C13 | E20: =Hoja1!E13 | F20: =Hoja1!D13 | G20: =CONCATENATE(Hoja1!P13,", ",'Formulario DE-01'!N26) -> , | H20: =Hoja1!G13 | I20: =Hoja1!S13 | J20: =Hoja1!J13 | K20: =Hoja1!L13 | L20: =Hoja2!Q13 | M20: =Hoja2!G13 | N20: =IF('Formulario DE-01'!W26="","",'Formulario DE-01'!W26) | O20: =Hoja2!F13 | P20: =CONCATENATE(Hoja2!Z13,", ",Hoja2!R13) -> ,
A21: =IF(B21="","",A20+1) | B21: =Hoja1!B14 | C21: =Hoja1!A14 | D21: =Hoja1!C14 | E21: =Hoja1!E14 | F21: =Hoja1!D14 | G21: =CONCATENATE(Hoja1!P14,", ",'Formulario DE-01'!N27) -> , | H21: =Hoja1!G14 | I21: =Hoja1!S14 | J21: =Hoja1!J14 | K21: =Hoja1!L14 | L21: =Hoja2!Q14 | M21: =Hoja2!G14 | N21: =IF('Formulario DE-01'!W27="","",'Formulario DE-01'!W27) | O21: =Hoja2!F14 | P21: =CONCATENATE(Hoja2!Z14,", ",Hoja2!R14) -> ,
... A58: =IF(B58="","",A57+1) | B58: =Hoja1!B51 | C58: =Hoja1!A51 | D58: =Hoja1!C51 | E58: =Hoja1!E51 | F58: =Hoja1!D51 | G58: =CONCATENATE(Hoja1!P51,", ",'Formulario DE-01'!N64) -> , | H58: =Hoja1!G51 | I58: =Hoja1!S51 | J58: =Hoja1!J51 | K58: =Hoja1!L51 | L58: =Hoja2!Q51 | M58: =Hoja2!G51 | N58: =IF('Formulario DE-01'!W64="","",'Formulario DE-01'!W64) | O58: =Hoja2!F51 | P58: =CONCATENATE(Hoja2!Z51,", ",Hoja2!R51) -> ,

Sheet Formulario DE-01
A1: DE-01 | D1: Jornada: | F1: INSTITUTO PANAMEÑO DE HABILITACIÓN ESPECIAL | AP1: Año lectivo:
D2: Matutina | F2: DIRECCIÓN NACIONAL DE SERVICIOS Y APOYOS PARA LA HABILITACIÓN | AP2: Educador(a):
D3: Vespertina | F3: OFICINA DE PLANIFICACIÓN | AP3: Cédula No.: | AW3: Inicial
D4: Puente | F4: SERVICIOS DE EDUCACIÓN ESPECIAL Y RECURSOS PARA EL APRENDIZAJE | AP4: Formulario No.: | AW4: Medio
AW5: Final
AP6: Centro Educativo:
A8: Escuela, Programa, o Extensión: | AR8: Provincia | AT8: Distrito | AW8: Corregimiento | AY8: .
A12: DATOS GENERALES DEL ESTUDIANTE | U12: INFORMACIÓN ACADÉMICA | AE12: VALORACIÓN | AG12: ÁREAS DE DOMINIO DE APRENDIZAJE | AO12: Certificado de Discapacidad (PCD) | AP12: Tipo de ayuda técnica que utiliza | AQ12: Beneficio que recibe el Estudiante | AU12: Observación
A13: No. | B13: Apellido y Nombre | F13: No. de Cédula | G13: Sexo | I13: Fecha de Nacimiento | L13: Edad en Años | M13: Condición de Discapacidad | N13: Especifica | O13: Lugar de procedencia | R13: Acudiente | S13: Parentesco | T13: Correo Electrónico del Acudiente | U13: Modalidad o Tipo de Servicio | V13: Nivel educativo | W13: Grado que cursa | X13: Bachiller / Carrera Técnica Intermedia | Y13: Turno | AA13: Tipo de atención | AD13: Movimiento | AE13: PEI | AF13: PECE | AG13: Lectura | AH13: Escritura | AI13: Matemáticas | AJ13: Uso del Sistema Braille | AK13: Lengua de Señas | AL13: Orientación y Movilidad | AM13: Sistema de Comunicación Alternativo | AN13: Uso de Tecnología de Apoyo
G14: 1- Hombre | H14: 2- Mujer | I14: Día | J14: Mes | K14: Año | O14: Dirección Completa (Barriada / calle / casa / Teléfono) | P14: Código geográfico del lugar de Procedencia | Q14: País de Procedencia | Y14: 1 Matutino | Z14: 2 Vespertino | AA14: 1 Presencial | AB14: 2 Atención a distancia | AQ14: SENADIS | AR14: MIDES | AS14: IFARHU | AT14: IPHE
A15: =IF(B15="","",1) | L15: =IF(OR(I15="",J15="",K15=""),"",RIGHT(YEAR(NOW()-DATE(K15,J15,I15)),2))
A16: =IF(B16="","",A15+1) | L16: =IF(OR(I16="",J16="",K16=""),"",RIGHT(YEAR(NOW()-DATE(K16,J16,I16)),2))
A17: =IF(B17="","",A16+1) | L17: =IF(OR(I17="",J17="",K17=""),"",RIGHT(YEAR(NOW()-DATE(K17,J17,I17)),2))
A18: =IF(B18="","",A17+1) | L18: =IF(OR(I18="",J18="",K18=""),"",RIGHT(YEAR(NOW()-DATE(K18,J18,I18)),2))
A19: =IF(B19="","",A18+1) | L19: =IF(OR(I19="",J19="",K19=""),"",RIGHT(YEAR(NOW()-DATE(K19,J19,I19)),2))
A20: =IF(B20="","",A19+1) | L20: =IF(OR(I20="",J20="",K20=""),"",RIGHT(YEAR(NOW()-DATE(K20,J20,I20)),2))
A21: =IF(B21="","",A20+1) | L21: =IF(OR(I21="",J21="",K21=""),"",RIGHT(YEAR(NOW()-DATE(K21,J21,I21)),2))
A22: =IF(B22="","",A21+1) | L22: =IF(OR(I22="",J22="",K22=""),"",RIGHT(YEAR(NOW()-DATE(K22,J22,I22)),2))
A23: =IF(B23="","",A22+1) | L23: =IF(OR(I23="",J23="",K23=""),"",RIGHT(YEAR(NOW()-DATE(K23,J23,I23)),2))
A24: =IF(B24="","",A23+1) | L24: =IF(OR(I24="",J24="",K24=""),"",RIGHT(YEAR(NOW()-DATE(K24,J24,I24)),2))
A25: =IF(B25="","",A24+1) | L25: =IF(OR(I25="",J25="",K25=""),"",RIGHT(YEAR(NOW()-DATE(K25,J25,I25)),2))
A26: =IF(B26="","",A25+1) | L26: =IF(OR(I26="",J26="",K26=""),"",RIGHT(YEAR(NOW()-DATE(K26,J26,I26)),2))
A27: =IF(B27="","",A26+1) | L27: =IF(OR(I27="",J27="",K27=""),"",RIGHT(YEAR(NOW()-DATE(K27,J27,I27)),2))
... A64: =IF(B64="","",A63+1) | L64: =IF(OR(I64="",J64="",K64=""),"",RIGHT(YEAR(NOW()-DATE(K64,J64,I64)),2))
DV252: Sin discapacidad
DT253: 1 | DU253: DI | DV253: Discapacidad intelectual
DT254: 2 | DU254: DA | DV254: Discapacidad auditiva
DT255: 3 | DU255: DV | DV255: Discapacidad visual
DT256: 4 | DU256: NeuroMotor | DV256: Trastornos neuromotores
DT257: 5 | DU257: TGD | DV257: Trastornos generalizados del desarrollo
DT258: 6 | DU258: Dmúltiples | DV258: Discapacidades múltiples
DT259: 7 | DU259: TED | DV259: Trastornos específicos del desarrollo
DA260: Condición | DB260: Grado | DC260: Bachiller | DD260: Especialidad | DE260: Procedencia | DF260: NEE | DG260: provincia | DH260: distrito | DI260: corregimiento | DJ260: EPE | DL260: Nivel | DM260: ET | DN260: Pe | DO260: Pr | DP260: Pm | DQ260: Md | DR260: Vo | DT260: 8 | DU260: Niño(a)enRiesgo | DV260: Niño(a) en riesgo
DA261: 0 | DB261: 0 | DC261: 0 | DD261: 0.00 | DE261: 0 | DF261: 1.01 | DG261: 0 | DH261: 00 | DI261: 00 | DJ261: Escuela de Enseñanza Especial | DL261: ET | DM261: P1 | DN261: PK | DO261: 1 | DP261: 7 | DQ261: 10 | DR261: 7 | DT261: 10 | DU261: Condición_sin_definir | DV261: Condición sin definir
DA262: 1 | DB262: PK | DC262: 1 | DD262: 1.00 | DE262: 10101 | DF262: 1.02 | DG262: 1 | DH262: 01 | DI262: 01 | DJ262: Escuela Vocacional Especial | DL262: Pe | DM262: P2 | DN262: K | DO262: 2 | DP262: 8 | DQ262: 11 | DR262: 8 | DT262: 80 | DU262: Otras_Condiciones | DV262: Otras Condiciones o Discapacidades
DA263: 2 | DB263: K | DC263: 2 | DD263: 2.00 | DE263: 10102 | DF263: 1.03 | DG263: 2 | DH263: 02 | DI263: 02 | DJ263: Escuela Nacional de Sordos | DL263: Pr | DM263: P3 | DN263: P1 | DO263: 3 | DP263: 9 | DQ263: 12 | DR263: 9 | DT263: 90 | DU263: Sin_discapacidad_NEE | DV263: Sin discapacidad NEE
DA264: 3 | DB264: P1 | DC264: 3 | DD264: 2.01 | DE264: 10104 | DF264: 1.04 | DG264: 3 | DH264: 03 | DI264: 03 | DJ264: Escuela Nacional de Ciegos Helen Keller | DL264: Pm | DN264: P2 | DO264: 4 | DR264: 10 | DT264: 0 | DU264: Sin_discapacidad | DV264: Sin discapacidad
DA265: 4 | DB265: P2 | DC265: 4 | DD265: 2.02 | DE265: 10105 | DF265: 1.05 | DG265: 4 | DH265: 04 | DI265: 04 | DJ265: Programa de Autismo | DL265: Md | DN265: P3 | DO265: 5 | DR265: 11
DA266: 5 | DB266: P3 | DC266: 8.01 | DD266: 2.03 | DE266: 10106 | DF266: 1.06 | DG266: 5 | DH266: 05 | DI266: 05 | DJ266: Programa de Estimulación Precoz | DL266: Vo | DO266: 6 | DR266: 12
DA267: 6 | DB267: 1 | DC267: 8.02 | DD267: 2.04 | DE267: 10107 | DF267: 1.07 | DG267: 6 | DH267: 06 | DI267: 06 | DJ267: Programa de Parálisis Cerebral
...

Sheet Hoja1
A1: Cédula | B1: Estudiante | C1: Sexo | D1: Edad | E1: F Nacimiento | F1: Seguro Social | G1: Barriada | H1: Calle | I1: Casa | J1: Acudiente | K1: Email acudiente | L1: Parentesco | M1: Nombre madre | N1: CédMadre | O1: Ocupación_M | P1: condición | Q1: Codiscapacidad | R1: Procedencia | S1: País de Procedencia | T1: Diagnóstico | U1: Tipo de paciente | V1: Certificado PcD | W1: Ayuda técnica | X1: Fecha de captura | Y1: IPHE | Z1: Tiempo IPHE
A2: =IF('Formulario DE-01'!F15="","",'Formulario DE-01'!F15) | B2: =IF('Formulario DE-01'!B15="","",'Formulario DE-01'!B15) | C2: =IF('Formulario DE-01'!G15="","",IF('Formulario DE-01'!G15=1,"Hombre","Mujer")) | D2: ='Formulario DE-01'!L15 | E2: =IF(OR('Formulario DE-01'!I15="",'Formulario DE-01'!J15="",'Formulario DE-01'!K15=""),"",CONCATENATE('Formulario DE-01'!I15,"/",'Formulario DE-01'!J15,"/",'Formulario DE-01'!K15)) | G2: =IF('Formulario DE-01'!O15="","",'Formulario DE-01'!O15) | J2: =IF('Formulario DE-01'!R15="","",'Formulario DE-01'!R15) | K2: =IF('Formulario DE-01'!T15="","",'Formulario DE-01'!T15) | L2: =IF('Formulario DE-01'!S15="","",'Formulario DE-01'!S15) | P2: =IF('Formulario DE-01'!M15="","",VLOOKUP('Formulario DE-01'!M15,Datosadjuntos!$A$2:$C$15,2,0)) | Q2: =IF(P2="","",VLOOKUP(P2,Datosadjuntos!$B$2:$C$15,2,0)) | R2: =IF('Formulario DE-01'!P15="","",'Formulario DE-01'!P15) | S2: =IF('Formulario DE-01'!Q15="","",'Formulario DE-01'!Q15) | V2: =IF('Formulario DE-01'!AO15="","",'Formulario DE-01'!AO15) | W2: =IF('Formulario DE-01'!AP15="","",'Formulario DE-01'!AP15) | X2: =IF(A2="","",NOW()) | Y2: =IF(A2="","",'Formulario DE-01'!$AQ$1) | Z2: =IF(Y2="","",0)
A3: =IF('Formulario DE-01'!F16="","",'Formulario DE-01'!F16) | B3: =IF('Formulario DE-01'!B16="","",'Formulario DE-01'!B16) | C3: =IF('Formulario DE-01'!G16="","",IF('Formulario DE-01'!G16=1,"Hombre","Mujer")) | D3: ='Formulario DE-01'!L16 | E3: =IF(OR('Formulario DE-01'!I16="",'Formulario DE-01'!J16="",'Formulario DE-01'!K16=""),"",CONCATENATE('Formulario DE-01'!I16,"/",'Formulario DE-01'!J16,"/",'Formulario DE-01'!K16)) | G3: =IF('Formulario DE-01'!O16="","",'Formulario DE-01'!O16) | J3: =IF('Formulario DE-01'!R16="","",'Formulario DE-01'!R16) | K3: =IF('Formulario DE-01'!T16="","",'Formulario DE-01'!T16) | L3: =IF('Formulario DE-01'!S16="","",'Formulario DE-01'!S16) | P3: =IF('Formulario DE-01'!M16="","",VLOOKUP('Formulario DE-01'!M16,Datosadjuntos!$A$2:$C$15,2,0)) | Q3: =IF(P3="","",VLOOKUP(P3,Datosadjuntos!$B$2:$C$15,2,0)) | R3: =IF('Formulario DE-01'!P16="","",'Formulario DE-01'!P16) | S3: =IF('Formulario DE-01'!Q16="","",'Formulario DE-01'!Q16) | V3: =IF('Formulario DE-01'!AO16="","",'Formulario DE-01'!AO16) | W3: =IF('Formulario DE-01'!AP16="","",'Formulario DE-01'!AP16) | X3: =IF(A3="","",NOW()) | Y3: =IF(A3="","",'Formulario DE-01'!$AQ$1) | Z3: =IF(Y3="","",0)
A4: =IF('Formulario DE-01'!F17="","",'Formulario DE-01'!F17) | B4: =IF('Formulario DE-01'!B17="","",'Formulario DE-01'!B17) | C4: =IF('Formulario DE-01'!G17="","",IF('Formulario DE-01'!G17=1,"Hombre","Mujer")) | D4: ='Formulario DE-01'!L17 | E4: =IF(OR('Formulario DE-01'!I17="",'Formulario DE-01'!J17="",'Formulario DE-01'!K17=""),"",CONCATENATE('Formulario DE-01'!I17,"/",'Formulario DE-01'!J17,"/",'Formulario DE-01'!K17)) | G4: =IF('Formulario DE-01'!O17="","",'Formulario DE-01'!O17) | J4: =IF('Formulario DE-01'!R17="","",'Formulario DE-01'!R17) | K4: =IF('Formulario DE-01'!T17="","",'Formulario DE-01'!T17) | L4: =IF('Formulario DE-01'!S17="","",'Formulario DE-01'!S17) | P4: =IF('Formulario DE-01'!M17="","",VLOOKUP('Formulario DE-01'!M17,Datosadjuntos!$A$2:$C$15,2,0)) | Q4: =IF(P4="","",VLOOKUP(P4,Datosadjuntos!$B$2:$C$15,2,0)) | R4: =IF('Formulario DE-01'!P17="","",'Formulario DE-01'!P17) | S4: =IF('Formulario DE-01'!Q17="","",'Formulario DE-01'!Q17) | V4: =IF('Formulario DE-01'!AO17="","",'Formulario DE-01'!AO17) | W4: =IF('Formulario DE-01'!AP17="","",'Formulario DE-01'!AP17) | X4: =IF(A4="","",NOW()) | Y4: =IF(A4="","",'Formulario DE-01'!$AQ$1) | Z4: =IF(Y4="","",0)
A5: =IF('Formulario DE-01'!F18="","",'Formulario DE-01'!F18) | B5: =IF('Formulario DE-01'!B18="","",'Formulario DE-01'!B18) | C5: =IF('Formulario DE-01'!G18="","",IF('Formulario DE-01'!G18=1,"Hombre","Mujer")) | D5: ='Formulario DE-01'!L18 | E5: =IF(OR('Formulario DE-01'!I18="",'Formulario DE-01'!J18="",'Formulario DE-01'!K18=""),"",CONCATENATE('Formulario DE-01'!I18,"/",'Formulario DE-01'!J18,"/",'Formulario DE-01'!K18)) | G5: =IF('Formulario DE-01'!O18="","",'Formulario DE-01'!O18) | J5: =IF('Formulario DE-01'!R18="","",'Formulario DE-01'!R18) | K5: =IF('Formulario DE-01'!T18="","",'Formulario DE-01'!T18) | L5: =IF('Formulario DE-01'!S18="","",'Formulario DE-01'!S18) | P5: =IF('Formulario DE-01'!M18="","",VLOOKUP('Formulario DE-01'!M18,Datosadjuntos!$A$2:$C$15,2,0)) | Q5: =IF(P5="","",VLOOKUP(P5,Datosadjuntos!$B$2:$C$15,2,0)) | R5: =IF('Formulario DE-01'!P18="","",'Formulario DE-01'!P18) | S5: =IF('Formulario DE-01'!Q18="","",'Formulario DE-01'!Q18) | V5: =IF('Formulario DE-01'!AO18="","",'Formulario DE-01'!AO18) | W5: =IF('Formulario DE-01'!AP18="","",'Formulario DE-01'!AP18) | X5: =IF(A5="","",NOW()) | Y5: =IF(A5="","",'Formulario DE-01'!$AQ$1) | Z5: =IF(Y5="","",0)
A6: =IF('Formulario DE-01'!F19="","",'Formulario DE-01'!F19) | B6: =IF('Formulario DE-01'!B19="","",'Formulario DE-01'!B19) | C6: =IF('Formulario DE-01'!G19="","",IF('Formulario DE-01'!G19=1,"Hombre","Mujer")) | D6: ='Formulario DE-01'!L19 | E6: =IF(OR('Formulario DE-01'!I19="",'Formulario DE-01'!J19="",'Formulario DE-01'!K19=""),"",CONCATENATE('Formulario DE-01'!I19,"/",'Formulario DE-01'!J19,"/",'Formulario DE-01'!K19)) | G6: =IF('Formulario DE-01'!O19="","",'Formulario DE-01'!O19) | J6: =IF('Formulario DE-01'!R19="","",'Formulario DE-01'!R19) | K6: =IF('Formulario DE-01'!T19="","",'Formulario DE-01'!T19) | L6: =IF('Formulario DE-01'!S19="","",'Formulario DE-01'!S19) | P6: =IF('Formulario DE-01'!M19="","",VLOOKUP('Formulario DE-01'!M19,Datosadjuntos!$A$2:$C$15,2,0)) | Q6: =IF(P6="","",VLOOKUP(P6,Datosadjuntos!$B$2:$C$15,2,0)) | R6: =IF('Formulario DE-01'!P19="","",'Formulario DE-01'!P19) | S6: =IF('Formulario DE-01'!Q19="","",'Formulario DE-01'!Q19) | V6: =IF('Formulario DE-01'!AO19="","",'Formulario DE-01'!AO19) | W6: =IF('Formulario DE-01'!AP19="","",'Formulario DE-01'!AP19) | X6: =IF(A6="","",NOW()) | Y6: =IF(A6="","",'Formulario DE-01'!$AQ$1) | Z6: =IF(Y6="","",0)
A7: =IF('Formulario DE-01'!F20="","",'Formulario DE-01'!F20) | B7: =IF('Formulario DE-01'!B20="","",'Formulario DE-01'!B20) | C7: =IF('Formulario DE-01'!G20="","",IF('Formulario DE-01'!G20=1,"Hombre","Mujer")) | D7: ='Formulario DE-01'!L20 | E7: =IF(OR('Formulario DE-01'!I20="",'Formulario DE-01'!J20="",'Formulario DE-01'!K20=""),"",CONCATENATE('Formulario DE-01'!I20,"/",'Formulario DE-01'!J20,"/",'Formulario DE-01'!K20)) | G7: =IF('Formulario DE-01'!O20="","",'Formulario DE-01'!O20) | J7: =IF('Formulario DE-01'!R20="","",'Formulario DE-01'!R20) | K7: =IF('Formulario DE-01'!T20="","",'Formulario DE-01'!T20) | L7: =IF('Formulario DE-01'!S20="","",'Formulario DE-01'!S20) | P7: =IF('Formulario DE-01'!M20="","",VLOOKUP('Formulario DE-01'!M20,Datosadjuntos!$A$2:$C$15,2,0)) | Q7: =IF(P7="","",VLOOKUP(P7,Datosadjuntos!$B$2:$C$15,2,0)) | R7: =IF('Formulario DE-01'!P20="","",'Formulario DE-01'!P20) | S7: =IF('Formulario DE-01'!Q20="","",'Formulario DE-01'!Q20) | V7: =IF('Formulario DE-01'!AO20="","",'Formulario DE-01'!AO20) | W7: =IF('Formulario DE-01'!AP20="","",'Formulario DE-01'!AP20) | X7: =IF(A7="","",NOW()) | Y7: =IF(A7="","",'Formulario DE-01'!$AQ$1) | Z7: =IF(Y7="","",0)
A8: =IF('Formulario DE-01'!F21="","",'Formulario DE-01'!F21) | B8: =IF('Formulario DE-01'!B21="","",'Formulario DE-01'!B21) | C8: =IF('Formulario DE-01'!G21="","",IF('Formulario DE-01'!G21=1,"Hombre","Mujer")) | D8: ='Formulario DE-01'!L21 | E8: =IF(OR('Formulario DE-01'!I21="",'Formulario DE-01'!J21="",'Formulario DE-01'!K21=""),"",CONCATENATE('Formulario DE-01'!I21,"/",'Formulario DE-01'!J21,"/",'Formulario DE-01'!K21)) | G8: =IF('Formulario DE-01'!O21="","",'Formulario DE-01'!O21) | J8: =IF('Formulario DE-01'!R21="","",'Formulario DE-01'!R21) | K8: =IF('Formulario DE-01'!T21="","",'Formulario DE-01'!T21) | L8: =IF('Formulario DE-01'!S21="","",'Formulario DE-01'!S21) | P8: =IF('Formulario DE-01'!M21="","",VLOOKUP('Formulario DE-01'!M21,Datosadjuntos!$A$2:$C$15,2,0)) | Q8: =IF(P8="","",VLOOKUP(P8,Datosadjuntos!$B$2:$C$15,2,0)) | R8: =IF('Formulario DE-01'!P21="","",'Formulario DE-01'!P21) | S8: =IF('Formulario DE-01'!Q21="","",'Formulario DE-01'!Q21) | V8: =IF('Formulario DE-01'!AO21="","",'Formulario DE-01'!AO21) | W8: =IF('Formulario DE-01'!AP21="","",'Formulario DE-01'!AP21) | X8: =IF(A8="","",NOW()) | Y8: =IF(A8="","",'Formulario DE-01'!$AQ$1) | Z8: =IF(Y8="","",0)
A9: =IF('Formulario DE-01'!F22="","",'Formulario DE-01'!F22) | B9: =IF('Formulario DE-01'!B22="","",'Formulario DE-01'!B22) | C9: =IF('Formulario DE-01'!G22="","",IF('Formulario DE-01'!G22=1,"Hombre","Mujer")) | D9: ='Formulario DE-01'!L22 | E9: =IF(OR('Formulario DE-01'!I22="",'Formulario DE-01'!J22="",'Formulario DE-01'!K22=""),"",CONCATENATE('Formulario DE-01'!I22,"/",'Formulario DE-01'!J22,"/",'Formulario DE-01'!K22)) | G9: =IF('Formulario DE-01'!O22="","",'Formulario DE-01'!O22) | J9: =IF('Formulario DE-01'!R22="","",'Formulario DE-01'!R22) | K9: =IF('Formulario DE-01'!T22="","",'Formulario DE-01'!T22) | L9: =IF('Formulario DE-01'!S22="","",'Formulario DE-01'!S22) | P9: =IF('Formulario DE-01'!M22="","",VLOOKUP('Formulario DE-01'!M22,Datosadjuntos!$A$2:$C$15,2,0)) | Q9: =IF(P9="","",VLOOKUP(P9,Datosadjuntos!$B$2:$C$15,2,0)) | R9: =IF('Formulario DE-01'!P22="","",'Formulario DE-01'!P22) | S9: =IF('Formulario DE-01'!Q22="","",'Formulario DE-01'!Q22) | V9: =IF('Formulario DE-01'!AO22="","",'Formulario DE-01'!AO22) | W9: =IF('Formulario DE-01'!AP22="","",'Formulario DE-01'!AP22) | X9: =IF(A9="","",NOW()) | Y9: =IF(A9="","",'Formulario DE-01'!$AQ$1) | Z9: =IF(Y9="","",0)
A10: =IF('Formulario DE-01'!F23="","",'Formulario DE-01'!F23) | B10: =IF('Formulario DE-01'!B23="","",'Formulario DE-01'!B23) | C10: =IF('Formulario DE-01'!G23="","",IF('Formulario DE-01'!G23=1,"Hombre","Mujer")) | D10: ='Formulario DE-01'!L23 | E10: =IF(OR('Formulario DE-01'!I23="",'Formulario DE-01'!J23="",'Formulario DE-01'!K23=""),"",CONCATENATE('Formulario DE-01'!I23,"/",'Formulario DE-01'!J23,"/",'Formulario DE-01'!K23)) | G10: =IF('Formulario DE-01'!O23="","",'Formulario DE-01'!O23) | J10: =IF('Formulario DE-01'!R23="","",'Formulario DE-01'!R23) | K10: =IF('Formulario DE-01'!T23="","",'Formulario DE-01'!T23) | L10: =IF('Formulario DE-01'!S23="","",'Formulario DE-01'!S23) | P10: =IF('Formulario DE-01'!M23="","",VLOOKUP('Formulario DE-01'!M23,Datosadjuntos!$A$2:$C$15,2,0)) | Q10: =IF(P10="","",VLOOKUP(P10,Datosadjuntos!$B$2:$C$15,2,0)) | R10: =IF('Formulario DE-01'!P23="","",'Formulario DE-01'!P23) | S10: =IF('Formulario DE-01'!Q23="","",'Formulario DE-01'!Q23) | V10: =IF('Formulario DE-01'!AO23="","",'Formulario DE-01'!AO23) | W10: =IF('Formulario DE-01'!AP23="","",'Formulario DE-01'!AP23) | X10: =IF(A10="","",NOW()) | Y10: =IF(A10="","",'Formulario DE-01'!$AQ$1) | Z10: =IF(Y10="","",0)
A11: =IF('Formulario DE-01'!F24="","",'Formulario DE-01'!F24) | B11: =IF('Formulario DE-01'!B24="","",'Formulario DE-01'!B24) | C11: =IF('Formulario DE-01'!G24="","",IF('Formulario DE-01'!G24=1,"Hombre","Mujer")) | D11: ='Formulario DE-01'!L24 | E11: =IF(OR('Formulario DE-01'!I24="",'Formulario DE-01'!J24="",'Formulario DE-01'!K24=""),"",CONCATENATE('Formulario DE-01'!I24,"/",'Formulario DE-01'!J24,"/",'Formulario DE-01'!K24)) | G11: =IF('Formulario DE-01'!O24="","",'Formulario DE-01'!O24) | J11: =IF('Formulario DE-01'!R24="","",'Formulario DE-01'!R24) | K11: =IF('Formulario DE-01'!T24="","",'Formulario DE-01'!T24) | L11: =IF('Formulario DE-01'!S24="","",'Formulario DE-01'!S24) | P11: =IF('Formulario DE-01'!M24="","",VLOOKUP('Formulario DE-01'!M24,Datosadjuntos!$A$2:$C$15,2,0)) | Q11: =IF(P11="","",VLOOKUP(P11,Datosadjuntos!$B$2:$C$15,2,0)) | R11: =IF('Formulario DE-01'!P24="","",'Formulario DE-01'!P24) | S11: =IF('Formulario DE-01'!Q24="","",'Formulario DE-01'!Q24) | V11: =IF('Formulario DE-01'!AO24="","",'Formulario DE-01'!AO24) | W11: =IF('Formulario DE-01'!AP24="","",'Formulario DE-01'!AP24) | X11: =IF(A11="","",NOW()) | Y11: =IF(A11="","",'Formulario DE-01'!$AQ$1) | Z11: =IF(Y11="","",0)
A12: =IF('Formulario DE-01'!F25="","",'Formulario DE-01'!F25) | B12: =IF('Formulario DE-01'!B25="","",'Formulario DE-01'!B25) | C12: =IF('Formulario DE-01'!G25="","",IF('Formulario DE-01'!G25=1,"Hombre","Mujer")) | D12: ='Formulario DE-01'!L25 | E12: =IF(OR('Formulario DE-01'!I25="",'Formulario DE-01'!J25="",'Formulario DE-01'!K25=""),"",CONCATENATE('Formulario DE-01'!I25,"/",'Formulario DE-01'!J25,"/",'Formulario DE-01'!K25)) | G12: =IF('Formulario DE-01'!O25="","",'Formulario DE-01'!O25) | J12: =IF('Formulario DE-01'!R25="","",'Formulario DE-01'!R25) | K12: =IF('Formulario DE-01'!T25="","",'Formulario DE-01'!T25) | L12: =IF('Formulario DE-01'!S25="","",'Formulario DE-01'!S25) | P12: =IF('Formulario DE-01'!M25="","",VLOOKUP('Formulario DE-01'!M25,Datosadjuntos!$A$2:$C$15,2,0)) | Q12: =IF(P12="","",VLOOKUP(P12,Datosadjuntos!$B$2:$C$15,2,0)) | R12: =IF('Formulario DE-01'!P25="","",'Formulario DE-01'!P25) | S12: =IF('Formulario DE-01'!Q25="","",'Formulario DE-01'!Q25) | V12: =IF('Formulario DE-01'!AO25="","",'Formulario DE-01'!AO25) | W12: =IF('Formulario DE-01'!AP25="","",'Formulario DE-01'!AP25) | X12: =IF(A12="","",NOW()) | Y12: =IF(A12="","",'Formulario DE-01'!$AQ$1) | Z12: =IF(Y12="","",0)
A13: =IF('Formulario DE-01'!F26="","",'Formulario DE-01'!F26) | B13: =IF('Formulario DE-01'!B26="","",'Formulario DE-01'!B26) | C13: =IF('Formulario DE-01'!G26="","",IF('Formulario DE-01'!G26=1,"Hombre","Mujer")) | D13: ='Formulario DE-01'!L26 | E13: =IF(OR('Formulario DE-01'!I26="",'Formulario DE-01'!J26="",'Formulario DE-01'!K26=""),"",CONCATENATE('Formulario DE-01'!I26,"/",'Formulario DE-01'!J26,"/",'Formulario DE-01'!K26)) | G13: =IF('Formulario DE-01'!O26="","",'Formulario DE-01'!O26) | J13: =IF('Formulario DE-01'!R26="","",'Formulario DE-01'!R26) | K13: =IF('Formulario DE-01'!T26="","",'Formulario DE-01'!T26) | L13: =IF('Formulario DE-01'!S26="","",'Formulario DE-01'!S26) | P13: =IF('Formulario DE-01'!M26="","",VLOOKUP('Formulario DE-01'!M26,Datosadjuntos!$A$2:$C$15,2,0)) | Q13: =IF(P13="","",VLOOKUP(P13,Datosadjuntos!$B$2:$C$15,2,0)) | R13: =IF('Formulario DE-01'!P26="","",'Formulario DE-01'!P26) | S13: =IF('Formulario DE-01'!Q26="","",'Formulario DE-01'!Q26) | V13: =IF('Formulario DE-01'!AO26="","",'Formulario DE-01'!AO26) | W13: =IF('Formulario DE-01'!AP26="","",'Formulario DE-01'!AP26) | X13: =IF(A13="","",NOW()) | Y13: =IF(A13="","",'Formulario DE-01'!$AQ$1) | Z13: =IF(Y13="","",0)
... A50: =IF('Formulario DE-01'!F63="","",'Formulario DE-01'!F63) | B50: =IF('Formulario DE-01'!B63="","",'Formulario DE-01'!B63) | C50: =IF('Formulario DE-01'!G63="","",IF('Formulario DE-01'!G63=1,"Hombre","Mujer")) | D50: ='Formulario DE-01'!L63 | E50: =IF(OR('Formulario DE-01'!I63="",'Formulario DE-01'!J63="",'Formulario DE-01'!K63=""),"",CONCATENATE('Formulario DE-01'!I63,"/",'Formulario DE-01'!J63,"/",'Formulario DE-01'!K63)) | G50: =IF('Formulario DE-01'!O63="","",'Formulario DE-01'!O63) | J50: =IF('Formulario DE-01'!R63="","",'Formulario DE-01'!R63) | K50: =IF('Formulario DE-01'!T63="","",'Formulario DE-01'!T63) | L50: =IF('Formulario DE-01'!S63="","",'Formulario DE-01'!S63) | P50: =IF('Formulario DE-01'!M63="","",VLOOKUP('Formulario DE-01'!M63,Datosadjuntos!$A$2:$C$15,2,0)) | Q50: =IF(P50="","",VLOOKUP(P50,Datosadjuntos!$B$2:$C$15,2,0)) | R50: =IF('Formulario DE-01'!P63="","",'Formulario DE-01'!P63) | S50: =IF('Formulario DE-01'!Q63="","",'Formulario DE-01'!Q63) | V50: =IF('Formulario DE-01'!AO63="","",'Formulario DE-01'!AO63) | W50: =IF('Formulario DE-01'!AP63="","",'Formulario DE-01'!AP63) | X50: =IF(A50="","",NOW()) | Y50: =IF(A50="","",'Formulario DE-01'!$AQ$1) | Z50: =IF(Y50="","",0)
A51: =IF('Formulario DE-01'!F64="","",'Formulario DE-01'!F64) | B51: =IF('Formulario DE-01'!B64="","",'Formulario DE-01'!B64) | C51: =IF('Formulario DE-01'!G64="","",IF('Formulario DE-01'!G64=1,"Hombre","Mujer")) | D51: ='Formulario DE-01'!L64 | E51: =IF(OR('Formulario DE-01'!I64="",'Formulario DE-01'!J64="",'Formulario DE-01'!K64=""),"",CONCATENATE('Formulario DE-01'!I64,"/",'Formulario DE-01'!J64,"/",'Formulario DE-01'!K64)) | G51: =IF('Formulario DE-01'!O64="","",'Formulario DE-01'!O64) | J51: =IF('Formulario DE-01'!R64="","",'Formulario DE-01'!R64) | K51: =IF('Formulario DE-01'!T64="","",'Formulario DE-01'!T64) | L51: =IF('Formulario DE-01'!S64="","",'Formulario DE-01'!S64) | P51: =IF('Formulario DE-01'!M64="","",VLOOKUP('Formulario DE-01'!M64,Datosadjuntos!$A$2:$C$15,2,0)) | Q51: =IF(P51="","",VLOOKUP(P51,Datosadjuntos!$B$2:$C$15,2,0)) | R51: =IF('Formulario DE-01'!P64="","",'Formulario DE-01'!P64) | S51: =IF('Formulario DE-01'!Q64="","",'Formulario DE-01'!Q64) | U51: =IF('Formulario DE-01'!AF64="","",'Formulario DE-01'!AF64) | V51: =IF('Formulario DE-01'!AO64="","",'Formulario DE-01'!AO64) | W51: =IF('Formulario DE-01'!AP64="","",'Formulario DE-01'!AP64) | X51: =IF(A51="","",NOW()) | Y51: =IF(A51="","",'Formulario DE-01'!$AQ$1) | Z51: =IF(Y51="","",0)

Sheet Hoja2
A1: Formulario | B1: Cededuc | C1: CodEsc | D1: Cédula | E1: Año lectivo | F1: Turno | G1: Nivel | H1: Grado | I1: Bachiller | J1: Especilidad | K1: Sistema Braille | L1: Lengua de Señas | M1: Orientación y Movilidad | N1: Comunicación Alternativo | O1: Manejo de Tecnología | P1: PEI | Q1: Modalidad | R1: Movimiento | S1: Lectura | T1: Escritura | U1: Matemáticas | V1: Fecha captura | W1: Observación | X1: Control | Y1: PECE | Z1: Tippo de atención | AA1: SENADIS | AB1: MIDES | AC1: IFARHU | AD1: IPHE | AE1: Certificado PcD | AF1: Ayuda técnica
A2: =IF(D2="","",'Formulario DE-01'!$AQ$4) | B2: =IF(D2="","",'Formulario DE-01'!$AQ$3) | C2: =IF(D2="","",CONCATENATE('Formulario DE-01'!$AS$8,'Formulario DE-01'!$AV$8,'Formulario DE-01'!$AX$8,".",'Formulario DE-01'!$AZ$8)) | D2: =Hoja1!A2 | E2: =IF(D2="","",'Formulario DE-01'!$AQ$1) | F2: =IF('Formulario DE-01'!Y15="","",VLOOKUP('Formulario DE-01'!Y15,Datosadjuntos!$A$40:$B$44,2,0)) | G2: =IF('Formulario DE-01'!V15="","",VLOOKUP('Formulario DE-01'!V15,Datosadjuntos!$A$19:$B$25,2,0)) | H2: =IF('Formulario DE-01'!W15="","",VLOOKUP('Formulario DE-01'!W15,Datosadjuntos!$H$24:$I$41,2,0)) | I2: =IF('Formulario DE-01'!X15="","",VLOOKUP('Formulario DE-01'!X15,Datosadjuntos!$D$19:$F$91,3,0)) | J2: =IF('Formulario DE-01'!X15="","",VLOOKUP('Formulario DE-01'!X15,Datosadjuntos!$D$19:$E$91,2,0)) | K2: =IF('Formulario DE-01'!AJ15="","",VLOOKUP('Formulario DE-01'!AJ15,Datosadjuntos!$A$62:$B$65,2,0)) | L2: =IF('Formulario DE-01'!AK15="","",VLOOKUP('Formulario DE-01'!AK15,Datosadjuntos!$A$67:$B$69,2,0)) | M2: =IF('Formulario DE-01'!AL15="","",VLOOKUP('Formulario DE-01'!AL15,Datosadjuntos!$A$67:$B$69,2,0)) | N2: =IF('Formulario DE-01'!AM15="","",VLOOKUP('Formulario DE-01'!AM15,Datosadjuntos!$A$71:$B$73,2,0)) | O2: =IF('Formulario DE-01'!AN15="","",VLOOKUP('Formulario DE-01'!AN15,Datosadjuntos!$A$75:$B$78,2,0)) | P2: =IF('Formulario DE-01'!AE15="","",'Formulario DE-01'!AE15) | Q2: =IF('Formulario DE-01'!U15="","",VLOOKUP('Formulario DE-01'!U15,Datosadjuntos!$A$28:$B$35,2,0)) | R2: =IF('Formulario DE-01'!AD15="","",VLOOKUP('Formulario DE-01'!AD15,Datosadjuntos!$J$2:$K$15,2,0)) | S2: =IF('Formulario DE-01'!AG15="","",VLOOKUP('Formulario DE-01'!AG15,Datosadjuntos!$A$48:$B$51,2,0)) | T2: =IF('Formulario DE-01'!AH15="","",VLOOKUP('Formulario DE-01'!AH15,Datosadjuntos!$A$53:$B$56,2,0)) | U2: =IF('Formulario DE-01'!AI15="","",VLOOKUP('Formulario DE-01'!AI15,Datosadjuntos!$A$58:$B$60,2,0)) | V2: =IF(D2="","",NOW()) | W2: =IF('Formulario DE-01'!AU15="","",'Formulario DE-01'!AU15) | X2: =IF(D2="","",CONCATENATE(D2,".",E2)) | Y2: =IF('Formulario DE-01'!AF15="","",'Formulario DE-01'!AF15) | Z2: =IF('Formulario DE-01'!AA15="","",VLOOKUP('Formulario DE-01'!AA15,Datosadjuntos!$A$82:$B$84,2,0)) | AA2: =IF('Formulario DE-01'!AQ15="","",VLOOKUP('Formulario DE-01'!AQ15,Datosadjuntos!$A$87:$B$89,2,0)) | AB2: =IF('Formulario DE-01'!AR15="","",VLOOKUP('Formulario DE-01'!AR15,Datosadjuntos!$A$94:$B$94,2,0)) | AC2: =IF('Formulario DE-01'!AS15="","",VLOOKUP('Formulario DE-01'!AS15,Datosadjuntos!$A$99:$B$102,2,0)) | AD2: =IF('Formulario DE-01'!AT15="","",VLOOKUP('Formulario DE-01'!AT15,Datosadjuntos!$A$106:$B$109,2,0)) | AE2: =IF('Formulario DE-01'!AO15="","",'Formulario DE-01'!AO15) | AF2: =IF('Formulario DE-01'!AP15="","",'Formulario DE-01'!AP15)
A3: =IF(D3="","",'Formulario DE-01'!$AQ$4) | B3: =IF(D3="","",'Formulario DE-01'!$AQ$3) | C3: =IF(D3="","",CONCATENATE('Formulario DE-01'!$AS$8,'Formulario DE-01'!$AV$8,'Formulario DE-01'!$AX$8,".",'Formulario DE-01'!$AZ$8)) | D3: =Hoja1!A3 | E3: =IF(D3="","",'Formulario DE-01'!$AQ$1) | F3: =IF('Formulario DE-01'!Y16="","",VLOOKUP('Formulario DE-01'!Y16,Datosadjuntos!$A$40:$B$44,2,0)) | G3: =IF('Formulario DE-01'!V16="","",VLOOKUP('Formulario DE-01'!V16,Datosadjuntos!$A$19:$B$25,2,0)) | H3: =IF('Formulario DE-01'!W16="","",VLOOKUP('Formulario DE-01'!W16,Datosadjuntos!$H$24:$I$41,2,0)) | I3: =IF('Formulario DE-01'!X16="","",VLOOKUP('Formulario DE-01'!X16,Datosadjuntos!$D$19:$F$91,3,0)) | J3: =IF('Formulario DE-01'!X16="","",VLOOKUP('Formulario DE-01'!X16,Datosadjuntos!$D$19:$E$91,2,0)) | K3: =IF('Formulario DE-01'!AJ16="","",VLOOKUP('Formulario DE-01'!AJ16,Datosadjuntos!$A$62:$B$65,2,0)) | L3: =IF('Formulario DE-01'!AK16="","",VLOOKUP('Formulario DE-01'!AK16,Datosadjuntos!$A$67:$B$69,2,0)) | M3: =IF('Formulario DE-01'!AL16="","",VLOOKUP('Formulario DE-01'!AL16,Datosadjuntos!$A$67:$B$69,2,0)) | N3: =IF('Formulario DE-01'!AM16="","",VLOOKUP('Formulario DE-01'!AM16,Datosadjuntos!$A$71:$B$73,2,0)) | O3: =IF('Formulario DE-01'!AN16="","",VLOOKUP('Formulario DE-01'!AN16,Datosadjuntos!$A$75:$B$78,2,0)) | P3: =IF('Formulario DE-01'!AE16="","",'Formulario DE-01'!AE16) | Q3: =IF('Formulario DE-01'!U16="","",VLOOKUP('Formulario DE-01'!U16,Datosadjuntos!$A$28:$B$35,2,0)) | R3: =IF('Formulario DE-01'!AD16="","",VLOOKUP('Formulario DE-01'!AD16,Datosadjuntos!$J$2:$K$15,2,0)) | S3: =IF('Formulario DE-01'!AG16="","",VLOOKUP('Formulario DE-01'!AG16,Datosadjuntos!$A$48:$B$51,2,0)) | T3: =IF('Formulario DE-01'!AH16="","",VLOOKUP('Formulario DE-01'!AH16,Datosadjuntos!$A$53:$B$56,2,0)) | U3: =IF('Formulario DE-01'!AI16="","",VLOOKUP('Formulario DE-01'!AI16,Datosadjuntos!$A$58:$B$60,2,0)) | V3: =IF(D3="","",NOW()) | W3: =IF('Formulario DE-01'!AU16="","",'Formulario DE-01'!AU16) | X3: =IF(D3="","",CONCATENATE(D3,".",E3)) | Y3: =IF('Formulario DE-01'!AF16="","",'Formulario DE-01'!AF16) | Z3: =IF('Formulario DE-01'!AA16="","",VLOOKUP('Formulario DE-01'!AA16,Datosadjuntos!$A$82:$B$84,2,0)) | AA3: =IF('Formulario DE-01'!AQ16="","",VLOOKUP('Formulario DE-01'!AQ16,Datosadjuntos!$A$87:$B$89,2,0)) | AB3: =IF('Formulario DE-01'!AR16="","",VLOOKUP('Formulario DE-01'!AR16,Datosadjuntos!$A$94:$B$94,2,0)) | AC3: =IF('Formulario DE-01'!AS16="","",VLOOKUP('Formulario DE-01'!AS16,Datosadjuntos!$A$99:$B$102,2,0)) | AD3: =IF('Formulario DE-01'!AT16="","",VLOOKUP('Formulario DE-01'!AT16,Datosadjuntos!$A$106:$B$109,2,0)) | AE3: =IF('Formulario DE-01'!AO16="","",'Formulario DE-01'!AO16) | AF3: =IF('Formulario DE-01'!AP16="","",'Formulario DE-01'!AP16)
A4: =IF(D4="","",'Formulario DE-01'!$AQ$4) | B4: =IF(D4="","",'Formulario DE-01'!$AQ$3) | C4: =IF(D4="","",CONCATENATE('Formulario DE-01'!$AS$8,'Formulario DE-01'!$AV$8,'Formulario DE-01'!$AX$8,".",'Formulario DE-01'!$AZ$8)) | D4: =Hoja1!A4 | E4: =IF(D4="","",'Formulario DE-01'!$AQ$1) | F4: =IF('Formulario DE-01'!Y17="","",VLOOKUP('Formulario DE-01'!Y17,Datosadjuntos!$A$40:$B$44,2,0)) | G4: =IF('Formulario DE-01'!V17="","",VLOOKUP('Formulario DE-01'!V17,Datosadjuntos!$A$19:$B$25,2,0)) | H4: =IF('Formulario DE-01'!W17="","",VLOOKUP('Formulario DE-01'!W17,Datosadjuntos!$H$24:$I$41,2,0)) | I4: =IF('Formulario DE-01'!X17="","",VLOOKUP('Formulario DE-01'!X17,Datosadjuntos!$D$19:$F$91,3,0)) | J4: =IF('Formulario DE-01'!X17="","",VLOOKUP('Formulario DE-01'!X17,Datosadjuntos!$D$19:$E$91,2,0)) | K4: =IF('Formulario DE-01'!AJ17="","",VLOOKUP('Formulario DE-01'!AJ17,Datosadjuntos!$A$62:$B$65,2,0)) | L4: =IF('Formulario DE-01'!AK17="","",VLOOKUP('Formulario DE-01'!AK17,Datosadjuntos!$A$67:$B$69,2,0)) | M4: =IF('Formulario DE-01'!AL17="","",VLOOKUP('Formulario DE-01'!AL17,Datosadjuntos!$A$67:$B$69,2,0)) | N4: =IF('Formulario DE-01'!AM17="","",VLOOKUP('Formulario DE-01'!AM17,Datosadjuntos!$A$71:$B$73,2,0)) | O4: =IF('Formulario DE-01'!AN17="","",VLOOKUP('Formulario DE-01'!AN17,Datosadjuntos!$A$75:$B$78,2,0)) | P4: =IF('Formulario DE-01'!AE17="","",'Formulario DE-01'!AE17) | Q4: =IF('Formulario DE-01'!U17="","",VLOOKUP('Formulario DE-01'!U17,Datosadjuntos!$A$28:$B$35,2,0)) | R4: =IF('Formulario DE-01'!AD17="","",VLOOKUP('Formulario DE-01'!AD17,Datosadjuntos!$J$2:$K$15,2,0)) | S4: =IF('Formulario DE-01'!AG17="","",VLOOKUP('Formulario DE-01'!AG17,Datosadjuntos!$A$48:$B$51,2,0)) | T4: =IF('Formulario DE-01'!AH17="","",VLOOKUP('Formulario DE-01'!AH17,Datosadjuntos!$A$53:$B$56,2,0)) | U4: =IF('Formulario DE-01'!AI17="","",VLOOKUP('Formulario DE-01'!AI17,Datosadjuntos!$A$58:$B$60,2,0)) | V4: =IF(D4="","",NOW()) | W4: =IF('Formulario DE-01'!AU17="","",'Formulario DE-01'!AU17) | X4: =IF(D4="","",CONCATENATE(D4,".",E4)) | Y4: =IF('Formulario DE-01'!AF17="","",'Formulario DE-01'!AF17) | Z4: =IF('Formulario DE-01'!AA17="","",VLOOKUP('Formulario DE-01'!AA17,Datosadjuntos!$A$82:$B$84,2,0)) | AA4: =IF('Formulario DE-01'!AQ17="","",VLOOKUP('Formulario DE-01'!AQ17,Datosadjuntos!$A$87:$B$89,2,0)) | AB4: =IF('Formulario DE-01'!AR17="","",VLOOKUP('Formulario DE-01'!AR17,Datosadjuntos!$A$94:$B$94,2,0)) | AC4: =IF('Formulario DE-01'!AS17="","",VLOOKUP('Formulario DE-01'!AS17,Datosadjuntos!$A$99:$B$102,2,0)) | AD4: =IF('Formulario DE-01'!AT17="","",VLOOKUP('Formulario DE-01'!AT17,Datosadjuntos!$A$106:$B$109,2,0)) | AE4: =IF('Formulario DE-01'!AO17="","",'Formulario DE-01'!AO17) | AF4: =IF('Formulario DE-01'!AP17="","",'Formulario DE-01'!AP17)
A5: =IF(D5="","",'Formulario DE-01'!$AQ$4) | B5: =IF(D5="","",'Formulario DE-01'!$AQ$3) | C5: =IF(D5="","",CONCATENATE('Formulario DE-01'!$AS$8,'Formulario DE-01'!$AV$8,'Formulario DE-01'!$AX$8,".",'Formulario DE-01'!$AZ$8)) | D5: =Hoja1!A5 | E5: =IF(D5="","",'Formulario DE-01'!$AQ$1) | F5: =IF('Formulario DE-01'!Y18="","",VLOOKUP('Formulario DE-01'!Y18,Datosadjuntos!$A$40:$B$44,2,0)) | G5: =IF('Formulario DE-01'!V18="","",VLOOKUP('Formulario DE-01'!V18,Datosadjuntos!$A$19:$B$25,2,0)) | H5: =IF('Formulario DE-01'!W18="","",VLOOKUP('Formulario DE-01'!W18,Datosadjuntos!$H$24:$I$41,2,0)) | I5: =IF('Formulario DE-01'!X18="","",VLOOKUP('Formulario DE-01'!X18,Datosadjuntos!$D$19:$F$91,3,0)) | J5: =IF('Formulario DE-01'!X18="","",VLOOKUP('Formulario DE-01'!X18,Datosadjuntos!$D$19:$E$91,2,0)) | K5: =IF('Formulario DE-01'!AJ18="","",VLOOKUP('Formulario DE-01'!AJ18,Datosadjuntos!$A$62:$B$65,2,0)) | L5: =IF('Formulario DE-01'!AK18="","",VLOOKUP('Formulario DE-01'!AK18,Datosadjuntos!$A$67:$B$69,2,0)) | M5: =IF('Formulario DE-01'!AL18="","",VLOOKUP('Formulario DE-01'!AL18,Datosadjuntos!$A$67:$B$69,2,0)) | N5: =IF('Formulario DE-01'!AM18="","",VLOOKUP('Formulario DE-01'!AM18,Datosadjuntos!$A$71:$B$73,2,0)) | O5: =IF('Formulario DE-01'!AN18="","",VLOOKUP('Formulario DE-01'!AN18,Datosadjuntos!$A$75:$B$78,2,0)) | P5: =IF('Formulario DE-01'!AE18="","",'Formulario DE-01'!AE18) | Q5: =IF('Formulario DE-01'!U18="","",VLOOKUP('Formulario DE-01'!U18,Datosadjuntos!$A$28:$B$35,2,0)) | R5: =IF('Formulario DE-01'!AD18="","",VLOOKUP('Formulario DE-01'!AD18,Datosadjuntos!$J$2:$K$15,2,0)) | S5: =IF('Formulario DE-01'!AG18="","",VLOOKUP('Formulario DE-01'!AG18,Datosadjuntos!$A$48:$B$51,2,0)) | T5: =IF('Formulario DE-01'!AH18="","",VLOOKUP('Formulario DE-01'!AH18,Datosadjuntos!$A$53:$B$56,2,0)) | U5: =IF('Formulario DE-01'!AI18="","",VLOOKUP('Formulario DE-01'!AI18,Datosadjuntos!$A$58:$B$60,2,0)) | V5: =IF(D5="","",NOW()) | W5: =IF('Formulario DE-01'!AU18="","",'Formulario DE-01'!AU18) | X5: =IF(D5="","",CONCATENATE(D5,".",E5)) | Y5: =IF('Formulario DE-01'!AF18="","",'Formulario DE-01'!AF18) | Z5: =IF('Formulario DE-01'!AA18="","",VLOOKUP('Formulario DE-01'!AA18,Datosadjuntos!$A$82:$B$84,2,0)) | AA5: =IF('Formulario DE-01'!AQ18="","",VLOOKUP('Formulario DE-01'!AQ18,Datosadjuntos!$A$87:$B$89,2,0)) | AB5: =IF('Formulario DE-01'!AR18="","",VLOOKUP('Formulario DE-01'!AR18,Datosadjuntos!$A$94:$B$94,2,0)) | AC5: =IF('Formulario DE-01'!AS18="","",VLOOKUP('Formulario DE-01'!AS18,Datosadjuntos!$A$99:$B$102,2,0)) | AD5: =IF('Formulario DE-01'!AT18="","",VLOOKUP('Formulario DE-01'!AT18,Datosadjuntos!$A$106:$B$109,2,0)) | AE5: =IF('Formulario DE-01'!AO18="","",'Formulario DE-01'!AO18) | AF5: =IF('Formulario DE-01'!AP18="","",'Formulario DE-01'!AP18)
A6: =IF(D6="","",'Formulario DE-01'!$AQ$4) | B6: =IF(D6="","",'Formulario DE-01'!$AQ$3) | C6: =IF(D6="","",CONCATENATE('Formulario DE-01'!$AS$8,'Formulario DE-01'!$AV$8,'Formulario DE-01'!$AX$8,".",'Formulario DE-01'!$AZ$8)) | D6: =Hoja1!A6 | E6: =IF(D6="","",'Formulario DE-01'!$AQ$1) | F6: =IF('Formulario DE-01'!Y19="","",VLOOKUP('Formulario DE-01'!Y19,Datosadjuntos!$A$40:$B$44,2,0)) | G6: =IF('Formulario DE-01'!V19="","",VLOOKUP('Formulario DE-01'!V19,Datosadjuntos!$A$19:$B$25,2,0)) | H6: =IF('Formulario DE-01'!W19="","",VLOOKUP('Formulario DE-01'!W19,Datosadjuntos!$H$24:$I$41,2,0)) | I6: =IF('Formulario DE-01'!X19="","",VLOOKUP('Formulario DE-01'!X19,Datosadjuntos!$D$19:$F$91,3,0)) | J6: =IF('Formulario DE-01'!X19="","",VLOOKUP('Formulario DE-01'!X19,Datosadjuntos!$D$19:$E$91,2,0)) | K6: =IF('Formulario DE-01'!AJ19="","",VLOOKUP('Formulario DE-01'!AJ19,Datosadjuntos!$A$62:$B$65,2,0)) | L6: =IF('Formulario DE-01'!AK19="","",VLOOKUP('Formulario DE-01'!AK19,Datosadjuntos!$A$67:$B$69,2,0)) | M6: =IF('Formulario DE-01'!AL19="","",VLOOKUP('Formulario DE-01'!AL19,Datosadjuntos!$A$67:$B$69,2,0)) | N6: =IF('Formulario DE-01'!AM19="","",VLOOKUP('Formulario DE-01'!AM19,Datosadjuntos!$A$71:$B$73,2,0)) | O6: =IF('Formulario DE-01'!AN19="","",VLOOKUP('Formulario DE-01'!AN19,Datosadjuntos!$A$75:$B$78,2,0)) | P6: =IF('Formulario DE-01'!AE19="","",'Formulario DE-01'!AE19) | Q6: =IF('Formulario DE-01'!U19="","",VLOOKUP('Formulario DE-01'!U19,Datosadjuntos!$A$28:$B$35,2,0)) | R6: =IF('Formulario DE-01'!AD19="","",VLOOKUP('Formulario DE-01'!AD19,Datosadjuntos!$J$2:$K$15,2,0)) | S6: =IF('Formulario DE-01'!AG19="","",VLOOKUP('Formulario DE-01'!AG19,Datosadjuntos!$A$48:$B$51,2,0)) | T6: =IF('Formulario DE-01'!AH19="","",VLOOKUP('Formulario DE-01'!AH19,Datosadjuntos!$A$53:$B$56,2,0)) | U6: =IF('Formulario DE-01'!AI19="","",VLOOKUP('Formulario DE-01'!AI19,Datosadjuntos!$A$58:$B$60,2,0)) | V6: =IF(D6="","",NOW()) | W6: =IF('Formulario DE-01'!AU19="","",'Formulario DE-01'!AU19) | X6: =IF(D6="","",CONCATENATE(D6,".",E6)) | Y6: =IF('Formulario DE-01'!AF19="","",'Formulario DE-01'!AF19) | Z6: =IF('Formulario DE-01'!AA19="","",VLOOKUP('Formulario DE-01'!AA19,Datosadjuntos!$A$82:$B$84,2,0)) | AA6: =IF('Formulario DE-01'!AQ19="","",VLOOKUP('Formulario DE-01'!AQ19,Datosadjuntos!$A$87:$B$89,2,0)) | AB6: =IF('Formulario DE-01'!AR19="","",VLOOKUP('Formulario DE-01'!AR19,Datosadjuntos!$A$94:$B$94,2,0)) | AC6: =IF('Formulario DE-01'!AS19="","",VLOOKUP('Formulario DE-01'!AS19,Datosadjuntos!$A$99:$B$102,2,0)) | AD6: =IF('Formulario DE-01'!AT19="","",VLOOKUP('Formulario DE-01'!AT19,Datosadjuntos!$A$106:$B$109,2,0)) | AE6: =IF('Formulario DE-01'!AO19="","",'Formulario DE-01'!AO19) | AF6: =IF('Formulario DE-01'!AP19="","",'Formulario DE-01'!AP19)
A7: =IF(D7="","",'Formulario DE-01'!$AQ$4) | B7: =IF(D7="","",'Formulario DE-01'!$AQ$3) | C7: =IF(D7="","",CONCATENATE('Formulario DE-01'!$AS$8,'Formulario DE-01'!$AV$8,'Formulario DE-01'!$AX$8,".",'Formulario DE-01'!$AZ$8)) | D7: =Hoja1!A7 | E7: =IF(D7="","",'Formulario DE-01'!$AQ$1) | F7: =IF('Formulario DE-01'!Y20="","",VLOOKUP('Formulario DE-01'!Y20,Datosadjuntos!$A$40:$B$44,2,0)) | G7: =IF('Formulario DE-01'!V20="","",VLOOKUP('Formulario DE-01'!V20,Datosadjuntos!$A$19:$B$25,2,0)) | H7: =IF('Formulario DE-01'!W20="","",VLOOKUP('Formulario DE-01'!W20,Datosadjuntos!$H$24:$I$41,2,0)) | I7: =IF('Formulario DE-01'!X20="","",VLOOKUP('Formulario DE-01'!X20,Datosadjuntos!$D$19:$F$91,3,0)) | J7: =IF('Formulario DE-01'!X20="","",VLOOKUP('Formulario DE-01'!X20,Datosadjuntos!$D$19:$E$91,2,0)) | K7: =IF('Formulario DE-01'!AJ20="","",VLOOKUP('Formulario DE-01'!AJ20,Datosadjuntos!$A$62:$B$65,2,0)) | L7: =IF('Formulario DE-01'!AK20="","",VLOOKUP('Formulario DE-01'!AK20,Datosadjuntos!$A$67:$B$69,2,0)) | M7: =IF('Formulario DE-01'!AL20="","",VLOOKUP('Formulario DE-01'!AL20,Datosadjuntos!$A$67:$B$69,2,0)) | N7: =IF('Formulario DE-01'!AM20="","",VLOOKUP('Formulario DE-01'!AM20,Datosadjuntos!$A$71:$B$73,2,0)) | O7: =IF('Formulario DE-01'!AN20="","",VLOOKUP('Formulario DE-01'!AN20,Datosadjuntos!$A$75:$B$78,2,0)) | P7: =IF('Formulario DE-01'!AE20="","",'Formulario DE-01'!AE20) | Q7: =IF('Formulario DE-01'!U20="","",VLOOKUP('Formulario DE-01'!U20,Datosadjuntos!$A$28:$B$35,2,0)) | R7: =IF('Formulario DE-01'!AD20="","",VLOOKUP('Formulario DE-01'!AD20,Datosadjuntos!$J$2:$K$15,2,0)) | S7: =IF('Formulario DE-01'!AG20="","",VLOOKUP('Formulario DE-01'!AG20,Datosadjuntos!$A$48:$B$51,2,0)) | T7: =IF('Formulario DE-01'!AH20="","",VLOOKUP('Formulario DE-01'!AH20,Datosadjuntos!$A$53:$B$56,2,0)) | U7: =IF('Formulario DE-01'!AI20="","",VLOOKUP('Formulario DE-01'!AI20,Datosadjuntos!$A$58:$B$60,2,0)) | V7: =IF(D7="","",NOW()) | W7: =IF('Formulario DE-01'!AU20="","",'Formulario DE-01'!AU20) | X7: =IF(D7="","",CONCATENATE(D7,".",E7)) | Y7: =IF('Formulario DE-01'!AF20="","",'Formulario DE-01'!AF20) | Z7: =IF('Formulario DE-01'!AA20="","",VLOOKUP('Formulario DE-01'!AA20,Datosadjuntos!$A$82:$B$84,2,0)) | AA7: =IF('Formulario DE-01'!AQ20="","",VLOOKUP('Formulario DE-01'!AQ20,Datosadjuntos!$A$87:$B$89,2,0)) | AB7: =IF('Formulario DE-01'!AR20="","",VLOOKUP('Formulario DE-01'!AR20,Datosadjuntos!$A$94:$B$94,2,0)) | AC7: =IF('Formulario DE-01'!AS20="","",VLOOKUP('Formulario DE-01'!AS20,Datosadjuntos!$A$99:$B$102,2,0)) | AD7: =IF('Formulario DE-01'!AT20="","",VLOOKUP('Formulario DE-01'!AT20,Datosadjuntos!$A$106:$B$109,2,0)) | AE7: =IF('Formulario DE-01'!AO20="","",'Formulario DE-01'!AO20) | AF7: =IF('Formulario DE-01'!AP20="","",'Formulario DE-01'!AP20)
A8: =IF(D8="","",'Formulario DE-01'!$AQ$4) | B8: =IF(D8="","",'Formulario DE-01'!$AQ$3) | C8: =IF(D8="","",CONCATENATE('Formulario DE-01'!$AS$8,'Formulario DE-01'!$AV$8,'Formulario DE-01'!$AX$8,".",'Formulario DE-01'!$AZ$8)) | D8: =Hoja1!A8 | E8: =IF(D8="","",'Formulario DE-01'!$AQ$1) | F8: =IF('Formulario DE-01'!Y21="","",VLOOKUP('Formulario DE-01'!Y21,Datosadjuntos!$A$40:$B$44,2,0)) | G8: =IF('Formulario DE-01'!V21="","",VLOOKUP('Formulario DE-01'!V21,Datosadjuntos!$A$19:$B$25,2,0)) | H8: =IF('Formulario DE-01'!W21="","",VLOOKUP('Formulario DE-01'!W21,Datosadjuntos!$H$24:$I$41,2,0)) | I8: =IF('Formulario DE-01'!X21="","",VLOOKUP('Formulario DE-01'!X21,Datosadjuntos!$D$19:$F$91,3,0)) | J8: =IF('Formulario DE-01'!X21="","",VLOOKUP('Formulario DE-01'!X21,Datosadjuntos!$D$19:$E$91,2,0)) | K8: =IF('Formulario DE-01'!AJ21="","",VLOOKUP('Formulario DE-01'!AJ21,Datosadjuntos!$A$62:$B$65,2,0)) | L8: =IF('Formulario DE-01'!AK21="","",VLOOKUP('Formulario DE-01'!AK21,Datosadjuntos!$A$67:$B$69,2,0)) | M8: =IF('Formulario DE-01'!AL21="","",VLOOKUP('Formulario DE-01'!AL21,Datosadjuntos!$A$67:$B$69,2,0)) | N8: =IF('Formulario DE-01'!AM21="","",VLOOKUP('Formulario DE-01'!AM21,Datosadjuntos!$A$71:$B$73,2,0)) | O8: =IF('Formulario DE-01'!AN21="","",VLOOKUP('Formulario DE-01'!AN21,Datosadjuntos!$A$75:$B$78,2,0)) | P8: =IF('Formulario DE-01'!AE21="","",'Formulario DE-01'!AE21) | Q8: =IF('Formulario DE-01'!U21="","",VLOOKUP('Formulario DE-01'!U21,Datosadjuntos!$A$28:$B$35,2,0)) | R8: =IF('Formulario DE-01'!AD21="","",VLOOKUP('Formulario DE-01'!AD21,Datosadjuntos!$J$2:$K$15,2,0)) | S8: =IF('Formulario DE-01'!AG21="","",VLOOKUP('Formulario DE-01'!AG21,Datosadjuntos!$A$48:$B$51,2,0)) | T8: =IF('Formulario DE-01'!AH21="","",VLOOKUP('Formulario DE-01'!AH21,Datosadjuntos!$A$53:$B$56,2,0)) | U8: =IF('Formulario DE-01'!AI21="","",VLOOKUP('Formulario DE-01'!AI21,Datosadjuntos!$A$58:$B$60,2,0)) | V8: =IF(D8="","",NOW()) | W8: =IF('Formulario DE-01'!AU21="","",'Formulario DE-01'!AU21) | X8: =IF(D8="","",CONCATENATE(D8,".",E8)) | Y8: =IF('Formulario DE-01'!AF21="","",'Formulario DE-01'!AF21) | Z8: =IF('Formulario DE-01'!AA21="","",VLOOKUP('Formulario DE-01'!AA21,Datosadjuntos!$A$82:$B$84,2,0)) | AA8: =IF('Formulario DE-01'!AQ21="","",VLOOKUP('Formulario DE-01'!AQ21,Datosadjuntos!$A$87:$B$89,2,0)) | AB8: =IF('Formulario DE-01'!AR21="","",VLOOKUP('Formulario DE-01'!AR21,Datosadjuntos!$A$94:$B$94,2,0)) | AC8: =IF('Formulario DE-01'!AS21="","",VLOOKUP('Formulario DE-01'!AS21,Datosadjuntos!$A$99:$B$102,2,0)) | AD8: =IF('Formulario DE-01'!AT21="","",VLOOKUP('Formulario DE-01'!AT21,Datosadjuntos!$A$106:$B$109,2,0)) | AE8: =IF('Formulario DE-01'!AO21="","",'Formulario DE-01'!AO21) | AF8: =IF('Formulario DE-01'!AP21="","",'Formulario DE-01'!AP21)
A9: =IF(D9="","",'Formulario DE-01'!$AQ$4) | B9: =IF(D9="","",'Formulario DE-01'!$AQ$3) | C9: =IF(D9="","",CONCATENATE('Formulario DE-01'!$AS$8,'Formulario DE-01'!$AV$8,'Formulario DE-01'!$AX$8,".",'Formulario DE-01'!$AZ$8)) | D9: =Hoja1!A9 | E9: =IF(D9="","",'Formulario DE-01'!$AQ$1) | F9: =IF('Formulario DE-01'!Y22="","",VLOOKUP('Formulario DE-01'!Y22,Datosadjuntos!$A$40:$B$44,2,0)) | G9: =IF('Formulario DE-01'!V22="","",VLOOKUP('Formulario DE-01'!V22,Datosadjuntos!$A$19:$B$25,2,0)) | H9: =IF('Formulario DE-01'!W22="","",VLOOKUP('Formulario DE-01'!W22,Datosadjuntos!$H$24:$I$41,2,0)) | I9: =IF('Formulario DE-01'!X22="","",VLOOKUP('Formulario DE-01'!X22,Datosadjuntos!$D$19:$F$91,3,0)) | J9: =IF('Formulario DE-01'!X22="","",VLOOKUP('Formulario DE-01'!X22,Datosadjuntos!$D$19:$E$91,2,0)) | K9: =IF('Formulario DE-01'!AJ22="","",VLOOKUP('Formulario DE-01'!AJ22,Datosadjuntos!$A$62:$B$65,2,0)) | L9: =IF('Formulario DE-01'!AK22="","",VLOOKUP('Formulario DE-01'!AK22,Datosadjuntos!$A$67:$B$69,2,0)) | M9: =IF('Formulario DE-01'!AL22="","",VLOOKUP('Formulario DE-01'!AL22,Datosadjuntos!$A$67:$B$69,2,0)) | N9: =IF('Formulario DE-01'!AM22="","",VLOOKUP('Formulario DE-01'!AM22,Datosadjuntos!$A$71:$B$73,2,0)) | O9: =IF('Formulario DE-01'!AN22="","",VLOOKUP('Formulario DE-01'!AN22,Datosadjuntos!$A$75:$B$78,2,0)) | P9: =IF('Formulario DE-01'!AE22="","",'Formulario DE-01'!AE22) | Q9: =IF('Formulario DE-01'!U22="","",VLOOKUP('Formulario DE-01'!U22,Datosadjuntos!$A$28:$B$35,2,0)) | R9: =IF('Formulario DE-01'!AD22="","",VLOOKUP('Formulario DE-01'!AD22,Datosadjuntos!$J$2:$K$15,2,0)) | S9: =IF('Formulario DE-01'!AG22="","",VLOOKUP('Formulario DE-01'!AG22,Datosadjuntos!$A$48:$B$51,2,0)) | T9: =IF('Formulario DE-01'!AH22="","",VLOOKUP('Formulario DE-01'!AH22,Datosadjuntos!$A$53:$B$56,2,0)) | U9: =IF('Formulario DE-01'!AI22="","",VLOOKUP('Formulario DE-01'!AI22,Datosadjuntos!$A$58:$B$60,2,0)) | V9: =IF(D9="","",NOW()) | W9: =IF('Formulario DE-01'!AU22="","",'Formulario DE-01'!AU22) | X9: =IF(D9="","",CONCATENATE(D9,".",E9)) | Y9: =IF('Formulario DE-01'!AF22="","",'Formulario DE-01'!AF22) | Z9: =IF('Formulario DE-01'!AA22="","",VLOOKUP('Formulario DE-01'!AA22,Datosadjuntos!$A$82:$B$84,2,0)) | AA9: =IF('Formulario DE-01'!AQ22="","",VLOOKUP('Formulario DE-01'!AQ22,Datosadjuntos!$A$87:$B$89,2,0)) | AB9: =IF('Formulario DE-01'!AR22="","",VLOOKUP('Formulario DE-01'!AR22,Datosadjuntos!$A$94:$B$94,2,0)) | AC9: =IF('Formulario DE-01'!AS22="","",VLOOKUP('Formulario DE-01'!AS22,Datosadjuntos!$A$99:$B$102,2,0)) | AD9: =IF('Formulario DE-01'!AT22="","",VLOOKUP('Formulario DE-01'!AT22,Datosadjuntos!$A$106:$B$109,2,0)) | AE9: =IF('Formulario DE-01'!AO22="","",'Formulario DE-01'!AO22) | AF9: =IF('Formulario DE-01'!AP22="","",'Formulario DE-01'!AP22)
A10: =IF(D10="","",'Formulario DE-01'!$AQ$4) | B10: =IF(D10="","",'Formulario DE-01'!$AQ$3) | C10: =IF(D10="","",CONCATENATE('Formulario DE-01'!$AS$8,'Formulario DE-01'!$AV$8,'Formulario DE-01'!$AX$8,".",'Formulario DE-01'!$AZ$8)) | D10: =Hoja1!A10 | E10: =IF(D10="","",'Formulario DE-01'!$AQ$1) | F10: =IF('Formulario DE-01'!Y23="","",VLOOKUP('Formulario DE-01'!Y23,Datosadjuntos!$A$40:$B$44,2,0)) | G10: =IF('Formulario DE-01'!V23="","",VLOOKUP('Formulario DE-01'!V23,Datosadjuntos!$A$19:$B$25,2,0)) | H10: =IF('Formulario DE-01'!W23="","",VLOOKUP('Formulario DE-01'!W23,Datosadjuntos!$H$24:$I$41,2,0)) | I10: =IF('Formulario DE-01'!X23="","",VLOOKUP('Formulario DE-01'!X23,Datosadjuntos!$D$19:$F$91,3,0)) | J10: =IF('Formulario DE-01'!X23="","",VLOOKUP('Formulario DE-01'!X23,Datosadjuntos!$D$19:$E$91,2,0)) | K10: =IF('Formulario DE-01'!AJ23="","",VLOOKUP('Formulario DE-01'!AJ23,Datosadjuntos!$A$62:$B$65,2,0)) | L10: =IF('Formulario DE-01'!AK23="","",VLOOKUP('Formulario DE-01'!AK23,Datosadjuntos!$A$67:$B$69,2,0)) | M10: =IF('Formulario DE-01'!AL23="","",VLOOKUP('Formulario DE-01'!AL23,Datosadjuntos!$A$67:$B$69,2,0)) | N10: =IF('Formulario DE-01'!AM23="","",VLOOKUP('Formulario DE-01'!AM23,Datosadjuntos!$A$71:$B$73,2,0)) | O10: =IF('Formulario DE-01'!AN23="","",VLOOKUP('Formulario DE-01'!AN23,Datosadjuntos!$A$75:$B$78,2,0)) | P10: =IF('Formulario DE-01'!AE23="","",'Formulario DE-01'!AE23) | Q10: =IF('Formulario DE-01'!U23="","",VLOOKUP('Formulario DE-01'!U23,Datosadjuntos!$A$28:$B$35,2,0)) | R10: =IF('Formulario DE-01'!AD23="","",VLOOKUP('Formulario DE-01'!AD23,Datosadjuntos!$J$2:$K$15,2,0)) | S10: =IF('Formulario DE-01'!AG23="","",VLOOKUP('Formulario DE-01'!AG23,Datosadjuntos!$A$48:$B$51,2,0)) | T10: =IF('Formulario DE-01'!AH23="","",VLOOKUP('Formulario DE-01'!AH23,Datosadjuntos!$A$53:$B$56,2,0)) | U10: =IF('Formulario DE-01'!AI23="","",VLOOKUP('Formulario DE-01'!AI23,Datosadjuntos!$A$58:$B$60,2,0)) | V10: =IF(D10="","",NOW()) | W10: =IF('Formulario DE-01'!AU23="","",'Formulario DE-01'!AU23) | X10: =IF(D10="","",CONCATENATE(D10,".",E10)) | Y10: =IF('Formulario DE-01'!AF23="","",'Formulario DE-01'!AF23) | Z10: =IF('Formulario DE-01'!AA23="","",VLOOKUP('Formulario DE-01'!AA23,Datosadjuntos!$A$82:$B$84,2,0)) | AA10: =IF('Formulario DE-01'!AQ23="","",VLOOKUP('Formulario DE-01'!AQ23,Datosadjuntos!$A$87:$B$89,2,0)) | AB10: =IF('Formulario DE-01'!AR23="","",VLOOKUP('Formulario DE-01'!AR23,Datosadjuntos!$A$94:$B$94,2,0)) | AC10: =IF('Formulario DE-01'!AS23="","",VLOOKUP('Formulario DE-01'!AS23,Datosadjuntos!$A$99:$B$102,2,0)) | AD10: =IF('Formulario DE-01'!AT23="","",VLOOKUP('Formulario DE-01'!AT23,Datosadjuntos!$A$106:$B$109,2,0)) | AE10: =IF('Formulario DE-01'!AO23="","",'Formulario DE-01'!AO23) | AF10: =IF('Formulario DE-01'!AP23="","",'Formulario DE-01'!AP23)
A11: =IF(D11="","",'Formulario DE-01'!$AQ$4) | B11: =IF(D11="","",'Formulario DE-01'!$AQ$3) | C11: =IF(D11="","",CONCATENATE('Formulario DE-01'!$AS$8,'Formulario DE-01'!$AV$8,'Formulario DE-01'!$AX$8,".",'Formulario DE-01'!$AZ$8)) | D11: =Hoja1!A11 | E11: =IF(D11="","",'Formulario DE-01'!$AQ$1) | F11: =IF('Formulario DE-01'!Y24="","",VLOOKUP('Formulario DE-01'!Y24,Datosadjuntos!$A$40:$B$44,2,0)) | G11: =IF('Formulario DE-01'!V24="","",VLOOKUP('Formulario DE-01'!V24,Datosadjuntos!$A$19:$B$25,2,0)) | H11: =IF('Formulario DE-01'!W24="","",VLOOKUP('Formulario DE-01'!W24,Datosadjuntos!$H$24:$I$41,2,0)) | I11: =IF('Formulario DE-01'!X24="","",VLOOKUP('Formulario DE-01'!X24,Datosadjuntos!$D$19:$F$91,3,0)) | J11: =IF('Formulario DE-01'!X24="","",VLOOKUP('Formulario DE-01'!X24,Datosadjuntos!$D$19:$E$91,2,0)) | K11: =IF('Formulario DE-01'!AJ24="","",VLOOKUP('Formulario DE-01'!AJ24,Datosadjuntos!$A$62:$B$65,2,0)) | L11: =IF('Formulario DE-01'!AK24="","",VLOOKUP('Formulario DE-01'!AK24,Datosadjuntos!$A$67:$B$69,2,0)) | M11: =IF('Formulario DE-01'!AL24="","",VLOOKUP('Formulario DE-01'!AL24,Datosadjuntos!$A$67:$B$69,2,0)) | N11: =IF('Formulario DE-01'!AM24="","",VLOOKUP('Formulario DE-01'!AM24,Datosadjuntos!$A$71:$B$73,2,0)) | O11: =IF('Formulario DE-01'!AN24="","",VLOOKUP('Formulario DE-01'!AN24,Datosadjuntos!$A$75:$B$78,2,0)) | P11: =IF('Formulario DE-01'!AE24="","",'Formulario DE-01'!AE24) | Q11: =IF('Formulario DE-01'!U24="","",VLOOKUP('Formulario DE-01'!U24,Datosadjuntos!$A$28:$B$35,2,0)) | R11: =IF('Formulario DE-01'!AD24="","",VLOOKUP('Formulario DE-01'!AD24,Datosadjuntos!$J$2:$K$15,2,0)) | S11: =IF('Formulario DE-01'!AG24="","",VLOOKUP('Formulario DE-01'!AG24,Datosadjuntos!$A$48:$B$51,2,0)) | T11: =IF('Formulario DE-01'!AH24="","",VLOOKUP('Formulario DE-01'!AH24,Datosadjuntos!$A$53:$B$56,2,0)) | U11: =IF('Formulario DE-01'!AI24="","",VLOOKUP('Formulario DE-01'!AI24,Datosadjuntos!$A$58:$B$60,2,0)) | V11: =IF(D11="","",NOW()) | W11: =IF('Formulario DE-01'!AU24="","",'Formulario DE-01'!AU24) | X11: =IF(D11="","",CONCATENATE(D11,".",E11)) | Y11: =IF('Formulario DE-01'!AF24="","",'Formulario DE-01'!AF24) | Z11: =IF('Formulario DE-01'!AA24="","",VLOOKUP('Formulario DE-01'!AA24,Datosadjuntos!$A$82:$B$84,2,0)) | AA11: =IF('Formulario DE-01'!AQ24="","",VLOOKUP('Formulario DE-01'!AQ24,Datosadjuntos!$A$87:$B$89,2,0)) | AB11: =IF('Formulario DE-01'!AR24="","",VLOOKUP('Formulario DE-01'!AR24,Datosadjuntos!$A$94:$B$94,2,0)) | AC11: =IF('Formulario DE-01'!AS24="","",VLOOKUP('Formulario DE-01'!AS24,Datosadjuntos!$A$99:$B$102,2,0)) | AD11: =IF('Formulario DE-01'!AT24="","",VLOOKUP('Formulario DE-01'!AT24,Datosadjuntos!$A$106:$B$109,2,0)) | AE11: =IF('Formulario DE-01'!AO24="","",'Formulario DE-01'!AO24) | AF11: =IF('Formulario DE-01'!AP24="","",'Formulario DE-01'!AP24)
